BEGIN:VCALENDAR
VERSION:2.0
PRODID:-//psnri.org//NONSGML kigkonsult.se iCalcreator 2.30.10//
CALSCALE:GREGORIAN
METHOD:PUBLISH
UID:0e6058ad-223f-4e15-a874-033732ce6d34
X-WR-CALDESC:Join us online or in person at 535 Centerville Rd\, 3rd Floor\
 , Warwick
X-WR-RELCALID:24b37d8378a6716e8d020b1db748dba8
X-WR-TIMEZONE:America/New_York
BEGIN:VTIMEZONE
TZID:America/New_York
BEGIN:STANDARD
TZNAME:EST
DTSTART:20231105T020000
TZOFFSETFROM:-0400
TZOFFSETTO:-0500
RDATE:20241103T020000
RDATE:20251102T020000
END:STANDARD
BEGIN:DAYLIGHT
TZNAME:EDT
DTSTART:20240310T020000
TZOFFSETFROM:-0500
TZOFFSETTO:-0400
RDATE:20250309T020000
END:DAYLIGHT
END:VTIMEZONE
BEGIN:VEVENT
UID:86cb3c95-6910-48db-958a-c8db38fbb889
DTSTAMP:20260421T130846Z
DESCRIPTION:Join us online or in person at 535 Centerville Rd\, 3rd Floor\,
  Warwick
DTSTART;TZID=America/New_York:20240515T173000
DTEND;TZID=America/New_York:20240515T190000
LOCATION:https://us02web.zoom.us/j/82839195711
SUMMARY:HYBRID: Warwick Fatherhood group
END:VEVENT
END:VCALENDAR
