BEGIN:VCALENDAR
VERSION:2.0
PRODID:-//psnri.org//NONSGML kigkonsult.se iCalcreator 2.30.10//
CALSCALE:GREGORIAN
METHOD:PUBLISH
UID:38703239-2f78-49e0-9346-f11deb00aa63
X-WR-CALDESC:
X-WR-RELCALID:4b1008be45a432fb67498182836ae3e6
X-WR-TIMEZONE:America/New_York
BEGIN:VTIMEZONE
TZID:America/New_York
BEGIN:STANDARD
TZNAME:EST
DTSTART:20231105T020000
TZOFFSETFROM:-0400
TZOFFSETTO:-0500
RDATE:20241103T020000
RDATE:20251102T020000
END:STANDARD
BEGIN:DAYLIGHT
TZNAME:EDT
DTSTART:20240310T020000
TZOFFSETFROM:-0500
TZOFFSETTO:-0400
RDATE:20250309T020000
END:DAYLIGHT
END:VTIMEZONE
BEGIN:VEVENT
UID:4fd35ae5-b299-40b9-bc99-d179457a4b3e
DTSTAMP:20260421T095151Z
DESCRIPTION:
DTSTART;TZID=America/New_York:20240528T191500
DTEND;TZID=America/New_York:20240528T203000
LOCATION:https://us02web.zoom.us/j/87140725265
SUMMARY:VIRTUAL: Circle of Parents group
END:VEVENT
END:VCALENDAR
