BEGIN:VCALENDAR
VERSION:2.0
PRODID:-//psnri.org//NONSGML kigkonsult.se iCalcreator 2.30.10//
CALSCALE:GREGORIAN
METHOD:PUBLISH
UID:8f4bcbde-05a8-4f1c-ab98-78e86cf7a66f
X-WR-CALDESC:Birth Parents who have been involved with child welfare — both
  closed and unresolved cases are welcome.\n\nAttend First Thursday monthly
  meetings to give input and participate in time-limited workgroups and sub
 committees.
X-WR-RELCALID:1c301f790d3ed776bd52a13c19e7e84e
X-WR-TIMEZONE:America/New_York
BEGIN:VTIMEZONE
TZID:America/New_York
BEGIN:STANDARD
TZNAME:EST
DTSTART:20251102T020000
TZOFFSETFROM:-0400
TZOFFSETTO:-0500
RDATE:20261101T020000
RDATE:20271107T020000
END:STANDARD
BEGIN:DAYLIGHT
TZNAME:EDT
DTSTART:20260308T020000
TZOFFSETFROM:-0500
TZOFFSETTO:-0400
RDATE:20270314T020000
END:DAYLIGHT
END:VTIMEZONE
BEGIN:VEVENT
UID:5dd83707-1aa8-44c5-b4af-18426dee2cb3
DTSTAMP:20260421T085356Z
DESCRIPTION:Birth Parents who have been involved with child welfare — both 
 closed and unresolved cases are welcome.\n\nAttend First Thursday monthly 
 meetings to give input and participate in time-limited workgroups and subc
 ommittees.
DTSTART;TZID=America/New_York:20260604T183000
DTEND;TZID=America/New_York:20260604T193000
LOCATION:333 Centerville Rd\, Warwick\, RI 02886 US
SUMMARY:RI Birth Parent Advisory Board Meeting
END:VEVENT
END:VCALENDAR
